BEGIN:VCALENDAR
VERSION:2.0
CALSCALE:GREGORIAN
METHOD:PUBLISH
PRODID://CARR//1416128
BEGIN:VEVENT
DTSTAMP:20260423T205843
VTIMEZONE:America/Chicago
DTSTART:20260515T130000Z
DTEND:20260515T140000Z
UID:1416128
SUMMARY:Chamber Coffee: A Touch of Country
LOCATION:A Touch of Country, 515 N Adams St # 217, Carroll, IA, 51401
DESCRIPTION:Chamber Coffee: A Touch of Country\n\n05/15/26 08:00 AM CST\n - 05/15/26 09:00 AM CST\Description:\nPlease join us from 8-9 a.m. for Chamber Coffee at A Touch of Country at 515 N Adams St # 217 in Carroll.\Location:\nA Touch of Country\n515 N Adams St # 217\nCarroll, IA 51401
X-ALT-DESC;FMTTYPE=text/html:Chamber Coffee: A Touch of Country<br /><br />05/15/26 08:00 AM CST - 05/15/26 09:00 AM CST<br />Description:<br />Please join us from 8-9 a.m. for Chamber Coffee at A Touch of Country at 515 N Adams St # 217&nbsp;in Carroll.<br />Location:<br />A Touch of Country<br />515 N Adams St # 217<br />Carroll, IA 51401
PRIORITY:3
TRANSP:TRANSPARENT
BEGIN:VALARM
TRIGGER:-PT5M
ACTION:DISPLAY
DESCRIPTION:Reminder
END:VALARM
END:VEVENT
END:VCALENDAR
